BEGIN:VCALENDAR
VERSION:2.0
PRODID:-//華光雷藏寺 - ECPv5.8.1//NONSGML v1.0//EN
CALSCALE:GREGORIAN
METHOD:PUBLISH
X-WR-CALNAME:華光雷藏寺
X-ORIGINAL-URL:https://llt.vllcs.org
X-WR-CALDESC:Events for 華光雷藏寺
BEGIN:VTIMEZONE
TZID:America/Vancouver
BEGIN:DAYLIGHT
TZOFFSETFROM:-0800
TZOFFSETTO:-0700
TZNAME:PDT
DTSTART:20210314T100000
END:DAYLIGHT
BEGIN:STANDARD
TZOFFSETFROM:-0700
TZOFFSETTO:-0800
TZNAME:PST
DTSTART:20211107T090000
END:STANDARD
END:VTIMEZONE
BEGIN:VEVENT
DTSTART;TZID=America/Vancouver:20210703T103000
DTEND;TZID=America/Vancouver:20210703T123000
DTSTAMP:20260419T094735
CREATED:20210701T215912Z
LAST-MODIFIED:20210701T215912Z
UID:3546-1625308200-1625315400@llt.vllcs.org
SUMMARY:黃財神祈福增益護摩水供法會
DESCRIPTION:祈請根本傳承上師蓮生活佛佛光加被\n真佛宗華光雷藏寺主辦\n黃財神祈福增益護摩水供法會\n \n時間︰2021年7月3日(六) 10時30分 \n地點： 347 E Hastings St.\, Vancouver (華光雷藏寺) \n意義：祈請主尊加持報名及參加眾等出世入世福慧資糧增益圓滿。 \n特設：法會主祈人，功德主。 \n線上報名\n下載報名表格\n法會贊助\n所有法會報名，一切隨喜\n報名郵寄地址： \n200 – 357 E Hastings St \nVancouver\, BC V6A 1P3 \nCanada
URL:https://llt.vllcs.org/events/%e9%bb%83%e8%b2%a1%e7%a5%9e%e7%a5%88%e7%a6%8f%e5%a2%9e%e7%9b%8a%e8%ad%b7%e6%91%a9%e6%b0%b4%e4%be%9b%e6%b3%95%e6%9c%83/
LOCATION:華光雷藏寺\, 347 E. Hastings St.\, Vancouver\, B.C.\, V6A 1P3\, Canada
CATEGORIES:水供,法會
ATTACH;FMTTYPE=image/jpeg:https://llt.vllcs.org/files/2015/01/Yellow-Jambhala.jpg
ORGANIZER;CN="%E8%8F%AF%E5%85%89%E9%9B%B7%E8%97%8F%E5%AF%BA":MAILTO:llcsvancouver@gmail.com
END:VEVENT
END:VCALENDAR