BEGIN:VCALENDAR
VERSION:2.0
PRODID:-//華光雷藏寺 - ECPv5.8.1//NONSGML v1.0//EN
CALSCALE:GREGORIAN
METHOD:PUBLISH
X-WR-CALNAME:華光雷藏寺
X-ORIGINAL-URL:https://llt.vllcs.org
X-WR-CALDESC:Events for 華光雷藏寺
BEGIN:VTIMEZONE
TZID:America/Vancouver
BEGIN:DAYLIGHT
TZOFFSETFROM:-0800
TZOFFSETTO:-0700
TZNAME:PDT
DTSTART:20160313T100000
END:DAYLIGHT
BEGIN:STANDARD
TZOFFSETFROM:-0700
TZOFFSETTO:-0800
TZNAME:PST
DTSTART:20161106T090000
END:STANDARD
END:VTIMEZONE
BEGIN:VEVENT
DTSTART;TZID=America/Vancouver:20161105T103000
DTEND;TZID=America/Vancouver:20161105T123000
DTSTAMP:20260419T060056
CREATED:20161104T225154Z
LAST-MODIFIED:20161104T225154Z
UID:2407-1478341800-1478349000@llt.vllcs.org
SUMMARY:華光雷藏寺真佛寶懺法會
DESCRIPTION:祈請根本傳承上師蓮生聖尊放光加持\n真佛宗華光雷藏寺主辦\n真佛寶懺法會\n2016年11月5日（六）上午10時30分\n南摩大白蓮花童子\n意義：祈請聖尊蓮生活佛加持報名及參加法會眾等業障消除、清淨。\n特別項目：報名法會請法主祈人、功德主，請聯繫本寺。 \n一切報名費用隨喜\n報名光明懺主、吉祥懺主、主祈人、功德主將列名功德榜疏文，得特別加持，詳情請聯絡本寺。 \n華光雷藏寺接受信用卡或支票，支票抬頭請寫：Lotus Light Charity Society\n報名通訊地址：#200\,357 E. Hastings st. Vancouver BC Canada V6A 1P3\n電話：1-604-685-5548  傳真：1-604-605-1002 Email：llcsvancouver@gmail.com \n下載報名表格\n信用卡或PAYPAL線上報名
URL:https://llt.vllcs.org/events/%e8%8f%af%e5%85%89%e9%9b%b7%e8%97%8f%e5%af%ba%e7%9c%9f%e4%bd%9b%e5%af%b6%e6%87%ba%e6%b3%95%e6%9c%83/
LOCATION:華光雷藏寺\, 347 E. Hastings St.\, Vancouver\, B.C.\, V6A 1P3\, Canada
CATEGORIES:拜懺,法會
ATTACH;FMTTYPE=image/jpeg:https://llt.vllcs.org/files/2013/12/20120519Padmakumara-1-e1401938513666.jpg
ORGANIZER;CN="%E8%8F%AF%E5%85%89%E9%9B%B7%E8%97%8F%E5%AF%BA":MAILTO:llcsvancouver@gmail.com
END:VEVENT
END:VCALENDAR