BEGIN:VCALENDAR
VERSION:2.0
PRODID:-//華光雷藏寺 - ECPv5.8.1//NONSGML v1.0//EN
CALSCALE:GREGORIAN
METHOD:PUBLISH
X-WR-CALNAME:華光雷藏寺
X-ORIGINAL-URL:https://llt.vllcs.org
X-WR-CALDESC:Events for 華光雷藏寺
BEGIN:VTIMEZONE
TZID:America/Vancouver
BEGIN:DAYLIGHT
TZOFFSETFROM:-0800
TZOFFSETTO:-0700
TZNAME:PDT
DTSTART:20260308T100000
END:DAYLIGHT
BEGIN:STANDARD
TZOFFSETFROM:-0700
TZOFFSETTO:-0800
TZNAME:PST
DTSTART:20261101T090000
END:STANDARD
END:VTIMEZONE
BEGIN:VEVENT
DTSTART;TZID=America/Vancouver:20260502T103000
DTEND;TZID=America/Vancouver:20260502T123000
DTSTAMP:20260425T065214
CREATED:20150416T025851Z
LAST-MODIFIED:20260425T032857Z
UID:1384-1777717800-1777725000@llt.vllcs.org
SUMMARY:大準提佛母息災祈福敬愛超度護摩火供法會
DESCRIPTION:祈請根本傳承上師蓮生活佛佛光加被\n真佛宗華光雷藏寺主辦\n大準提佛母息災祈福敬愛超度護摩火供法會暨賜福灌頂\n時間︰2026年5月2日(六) 10：30AM \n地點： 347 E Hastings St\, Vancouver (華光雷藏寺) \n\n稽首皈依蘇悉帝 頭面頂禮七俱胝 \n我今稱讚大準提 惟願慈悲垂加護 \n\n意義：慶祝諸佛之母大準提佛母聖誕，祈請真佛宗八大本尊之大準提佛母加持報名眾等入世出世諸求圓滿，冥陽兩利。\n特設：法會主祈人，功德主。 \n華光雷藏寺法會一切報名費用隨喜，欲報名請法主祈人、功德主，請聯繫本寺\n下載法會報名表格\n法會贊助\n華光雷藏寺接受信用卡或支票，支票抬頭請寫：Lotus Light Charity Society\n報名通訊地址：PO Box 88210\, RPO Chinatown\, Vancouver B.C.\, Canada V6A 4A5\n電話：1-604-685-5548  傳真：1-604-605-1002 Email：llcsvancouver@gmail.com
URL:https://llt.vllcs.org/events/%e5%a4%a7%e6%ba%96%e6%8f%90%e4%bd%9b%e6%af%8d%e6%81%af%e7%81%bd%e7%a5%88%e7%a6%8f%e6%95%ac%e6%84%9b%e8%b6%85%e5%ba%a6%e8%ad%b7%e6%91%a9%e7%81%ab%e4%be%9b%e6%b3%95%e6%9c%83/
LOCATION:華光雷藏寺\, 347 E. Hastings St.\, Vancouver\, B.C.\, V6A 1P3\, Canada
CATEGORIES:佛誕,供佛,護摩火供
ATTACH;FMTTYPE=image/jpeg:https://llt.vllcs.org/files/2015/04/llt-ceremony-260502.jpg
ORGANIZER;CN="%E8%8F%AF%E5%85%89%E9%9B%B7%E8%97%8F%E5%AF%BA":MAILTO:llcsvancouver@gmail.com
END:VEVENT
END:VCALENDAR