BEGIN:VCALENDAR
VERSION:2.0
PRODID:-//華光雷藏寺 - ECPv5.8.1//NONSGML v1.0//EN
CALSCALE:GREGORIAN
METHOD:PUBLISH
X-WR-CALNAME:華光雷藏寺
X-ORIGINAL-URL:http://llt.vllcs.org
X-WR-CALDESC:Events for 華光雷藏寺
BEGIN:VTIMEZONE
TZID:America/Vancouver
BEGIN:DAYLIGHT
TZOFFSETFROM:-0800
TZOFFSETTO:-0700
TZNAME:PDT
DTSTART:20140309T100000
END:DAYLIGHT
BEGIN:STANDARD
TZOFFSETFROM:-0700
TZOFFSETTO:-0800
TZNAME:PST
DTSTART:20141102T090000
END:STANDARD
END:VTIMEZONE
BEGIN:VEVENT
DTSTART;TZID=America/Vancouver:20140309T103000
DTEND;TZID=America/Vancouver:20140309T123000
DTSTAMP:20260421T034523
CREATED:20140309T013906Z
LAST-MODIFIED:20140309T013930Z
UID:539-1394361000-1394368200@llt.vllcs.org
SUMMARY:真佛寶懺法會
DESCRIPTION:祈請根本傳承上師蓮生聖尊放光加持\n真佛宗浩然精舍主辦\n真佛寶懺法會\n2014年3月9日（日）上午10時30分\n大白蓮花童子\n意義：慶祝法王蓮生活佛出家紀念日，啟建真佛寶懺法會，加持報名及參加法會眾等業障消除、清淨。\n特別項目：報名法會請法主祈人、功德主，請聯繫本寺。 \n一切報名費用隨喜\n報名光明懺主、吉祥懺主、主祈人、功德主將列名功德榜疏文，得特別加持，詳情請聯絡本寺。 \n華光雷藏寺接受信用卡或支票，支票抬頭請寫：Lotus Light Charity Society\n報名通訊地址：#200\,357 E. Hastings st. Vancouver BC Canada V6A 1P3\n電話：1-604-685-5548  傳真：1-604-605-1002 Email：llcsvancouver@gmail.com \n下載報名表格\n信用卡或PAYPAL線上報名
URL:http://llt.vllcs.org/events/539/
LOCATION:浩然精舍\, 6571 No. 6 Road\, Richmond\, B.C.\, V6W 1C8\, Canada
CATEGORIES:拜懺,法會
ORGANIZER;CN="%E6%B5%A9%E7%84%B6%E7%B2%BE%E8%88%8D":MAILTO:llcsvancouver@gmail.com
END:VEVENT
END:VCALENDAR