BEGIN:VCALENDAR
VERSION:2.0
PRODID:-//華光雷藏寺 - ECPv5.8.1//NONSGML v1.0//EN
CALSCALE:GREGORIAN
METHOD:PUBLISH
X-WR-CALNAME:華光雷藏寺
X-ORIGINAL-URL:http://llt.vllcs.org
X-WR-CALDESC:Events for 華光雷藏寺
BEGIN:VTIMEZONE
TZID:America/Vancouver
BEGIN:DAYLIGHT
TZOFFSETFROM:-0800
TZOFFSETTO:-0700
TZNAME:PDT
DTSTART:20130310T100000
END:DAYLIGHT
BEGIN:STANDARD
TZOFFSETFROM:-0700
TZOFFSETTO:-0800
TZNAME:PST
DTSTART:20131103T090000
END:STANDARD
END:VTIMEZONE
BEGIN:VEVENT
DTSTART;TZID=America/Vancouver:20131102T100000
DTEND;TZID=America/Vancouver:20131102T130000
DTSTAMP:20260419T072004
CREATED:20131102T015738Z
LAST-MODIFIED:20131108T025828Z
UID:332-1383386400-1383397200@llt.vllcs.org
SUMMARY:藥師寶懺法會暨清淨灌頂
DESCRIPTION:祈請根本傳承上師蓮生聖尊放光加持\n		 \n\n			真佛宗華光雷藏寺暨浩然精舍主辦\n		 \n\n			2013年11月2日（六）上午10時\n		 \n\n			藥師寶懺法會暨清淨灌頂\n		 \n\n			主壇：釋蓮慈金剛上師 護壇：華光雷藏寺法師助教團\n		 \n\n			意義：慶祝藥師如來佛誕，啟建藥師寶懺法會，加持報名及參加法會眾等增福增壽、息災除病，冥陽兩利。\n		 \n\n			特別項目：報名法會請法主祈人、功德主，請聯繫本寺。
URL:http://llt.vllcs.org/events/%e8%97%a5%e5%b8%ab%e5%af%b6%e6%87%ba%e6%b3%95%e6%9c%83%e6%9a%a8%e6%b8%85%e6%b7%a8%e7%81%8c%e9%a0%82/
LOCATION:華光雷藏寺\, 347 E. Hastings St.\, Vancouver\, B.C.\, V6A 1P3\, Canada
ATTACH;FMTTYPE=image/jpeg:http://llt.vllcs.org/files/2013/11/20126282045385354.jpg
ORGANIZER;CN="%E8%8F%AF%E5%85%89%E9%9B%B7%E8%97%8F%E5%AF%BA%E6%9A%A8%E6%B5%A9%E7%84%B6%E7%B2%BE%E8%88%8D":MAILTO:llcsvancouver@gmail.com
END:VEVENT
END:VCALENDAR