BEGIN:VCALENDAR
VERSION:2.0
PRODID:-//華光雷藏寺 - ECPv5.8.1//NONSGML v1.0//EN
CALSCALE:GREGORIAN
METHOD:PUBLISH
X-WR-CALNAME:華光雷藏寺
X-ORIGINAL-URL:http://llt.vllcs.org
X-WR-CALDESC:Events for 華光雷藏寺
BEGIN:VTIMEZONE
TZID:America/Vancouver
BEGIN:DAYLIGHT
TZOFFSETFROM:-0800
TZOFFSETTO:-0700
TZNAME:PDT
DTSTART:20150308T100000
END:DAYLIGHT
BEGIN:STANDARD
TZOFFSETFROM:-0700
TZOFFSETTO:-0800
TZNAME:PST
DTSTART:20151101T090000
END:STANDARD
END:VTIMEZONE
BEGIN:VEVENT
DTSTART;TZID=America/Vancouver:20150711T103000
DTEND;TZID=America/Vancouver:20150711T123000
DTSTAMP:20260422T065657
CREATED:20150613T011908Z
LAST-MODIFIED:20150711T004505Z
UID:1612-1436610600-1436617800@llt.vllcs.org
SUMMARY:瑤池金母馬上有錢法密法營暨息災祈福增益超度護摩火供法會
DESCRIPTION:祈請根本傳承上師蓮生佛佛光注照\n 真佛宗華光雷藏寺、浩然精舍聯合舉辦\n 瑤池金母馬上有錢密法營\n 暨息災祈福增益超度火供法會/金母八大法講解與教學\n2015年7月11、12日（六、日）一連兩天 \n時間/地點： \n\n11日（六）10:30AM–12:30PM 金母馬上有錢法同修（華光雷藏寺）\n12日（日）10:30AM–12:30PM 金母息災祈福增益超度護摩火供法會（浩然精舍）\n\n意義：2006年師尊蓮生活佛普傳金母八大法以來，弟子練功身心受益良多，今特恭請金母分靈蓮慈金剛上師教學及帶領，並修習金母馬上有錢法密修，共沐法喜。 \n 
URL:http://llt.vllcs.org/events/%e7%91%a4%e6%b1%a0%e9%87%91%e6%af%8d%e9%a6%ac%e4%b8%8a%e6%9c%89%e9%8c%a2%e6%b3%95%e5%af%86%e6%b3%95%e7%87%9f%e6%9a%a8%e6%81%af%e7%81%bd%e7%a5%88%e7%a6%8f%e5%a2%9e%e7%9b%8a%e8%b6%85%e5%ba%a6%e8%ad%b7/
LOCATION:華光雷藏寺\, 347 E. Hastings St.\, Vancouver\, B.C.\, V6A 1P3\, Canada
CATEGORIES:密法實修,密法營,護摩火供,金母八大法,金母馬上有錢法
ATTACH;FMTTYPE=image/jpeg:http://llt.vllcs.org/files/2015/06/Golden-Mother.jpg
ORGANIZER;CN="%E6%B5%A9%E7%84%B6%E7%B2%BE%E8%88%8D%E5%8F%8A%E8%8F%AF%E5%85%89%E9%9B%B7%E8%97%8F%E5%AF%BA":MAILTO:llcsvancouver@gmail.com
END:VEVENT
END:VCALENDAR