BEGIN:VCALENDAR
VERSION:2.0
PRODID:-//華光雷藏寺 - ECPv5.8.1//NONSGML v1.0//EN
CALSCALE:GREGORIAN
METHOD:PUBLISH
X-WR-CALNAME:華光雷藏寺
X-ORIGINAL-URL:http://llt.vllcs.org
X-WR-CALDESC:Events for 華光雷藏寺
BEGIN:VTIMEZONE
TZID:America/Vancouver
BEGIN:DAYLIGHT
TZOFFSETFROM:-0800
TZOFFSETTO:-0700
TZNAME:PDT
DTSTART:20250309T100000
END:DAYLIGHT
BEGIN:STANDARD
TZOFFSETFROM:-0700
TZOFFSETTO:-0800
TZNAME:PST
DTSTART:20251102T090000
END:STANDARD
END:VTIMEZONE
BEGIN:VEVENT
DTSTART;TZID=America/Vancouver:20250607T103000
DTEND;TZID=America/Vancouver:20250607T123000
DTSTAMP:20260419T081857
CREATED:20250530T232256Z
LAST-MODIFIED:20250530T232256Z
UID:4899-1749292200-1749299400@llt.vllcs.org
SUMMARY:浩然精舍大白蓮花童子息災祈福敬愛超度護摩火供法會暨賜福灌頂
DESCRIPTION:祈請根本傳承上師蓮生聖尊放光加持\n 真佛宗浩然精舍主辦大白蓮花童子息災祈福敬愛超渡護摩火供法會暨浴佛慶典 / 賜福灌頂\n主持：住持蓮慈金剛上師　護持：華光上師法師講師助教團 \n時間：2025年6月7日（六）上午10時30分 \n地址：6571 No 6 Rd\, Richmond  (列治文浩然精舍) \n意義：恭賀根本傳承上師蓮生佛佛聖，迴向師尊蓮生佛佛體康泰，請佛住世， 佛誕快樂，恆轉法輪。加持眾等入世出世諸求吉祥。\n特別項目：報名法會請法主祈人、功德主，請聯繫本寺。 \n\n\n\n\n \n\n\n\n\n  \n一切報名費用隨喜\n\n下載：報名表格 \n\n贊助方法：線上贊助或郵寄 \n華光雷藏寺接受信用卡或支票，支票抬頭請寫：Lotus Light Charity Society\n報名通訊地址：PO Box 88210\, RPO Chinatown\, Vancouver B.C.\, Canada V6A 4A5\n電話：1-604-685-5548  傳真：1-604-605-1002 Email：llcsvancouver@gmail.com
URL:http://llt.vllcs.org/events/%e6%b5%a9%e7%84%b6%e7%b2%be%e8%88%8d%e5%a4%a7%e7%99%bd%e8%93%ae%e8%8a%b1%e7%ab%a5%e5%ad%90%e6%81%af%e7%81%bd%e7%a5%88%e7%a6%8f%e6%95%ac%e6%84%9b%e8%b6%85%e5%ba%a6%e8%ad%b7%e6%91%a9%e7%81%ab%e4%be%9b/
LOCATION:浩然精舍\, 6571 No. 6 Road\, Richmond\, B.C.\, V6W 1C8\, Canada
CATEGORIES:法會,護摩火供
ATTACH;FMTTYPE=image/jpeg:http://llt.vllcs.org/files/2015/02/Padmakumara.jpg
ORGANIZER;CN="%E6%B5%A9%E7%84%B6%E7%B2%BE%E8%88%8D%E5%8F%8A%E8%8F%AF%E5%85%89%E9%9B%B7%E8%97%8F%E5%AF%BA":MAILTO:llcsvancouver@gmail.com
END:VEVENT
END:VCALENDAR