BEGIN:VCALENDAR
VERSION:2.0
PRODID:-//華光雷藏寺 - ECPv5.8.1//NONSGML v1.0//EN
CALSCALE:GREGORIAN
METHOD:PUBLISH
X-WR-CALNAME:華光雷藏寺
X-ORIGINAL-URL:http://llt.vllcs.org
X-WR-CALDESC:Events for 華光雷藏寺
BEGIN:VTIMEZONE
TZID:America/Vancouver
BEGIN:DAYLIGHT
TZOFFSETFROM:-0800
TZOFFSETTO:-0700
TZNAME:PDT
DTSTART:20130310T100000
END:DAYLIGHT
BEGIN:STANDARD
TZOFFSETFROM:-0700
TZOFFSETTO:-0800
TZNAME:PST
DTSTART:20131103T090000
END:STANDARD
END:VTIMEZONE
BEGIN:VEVENT
DTSTART;TZID=America/Vancouver:20131124T103000
DTEND;TZID=America/Vancouver:20131124T123000
DTSTAMP:20260419T072028
CREATED:20131108T020023Z
LAST-MODIFIED:20131108T024053Z
UID:323-1385289000-1385296200@llt.vllcs.org
SUMMARY:勾財天女息災祈福增益超度護摩火供法會暨賜福灌頂
DESCRIPTION:祈請根本傳承上師蓮生聖尊放光加持\n	 \n\n		真佛宗浩然精舍暨華光雷藏寺主辦\n	 \n\n		2013年11月24日（日）上午10時30分\n	 \n\n		勾財天女息災祈福增益超度護摩火供法會暨賜福灌頂\n	 \n\n		主壇：釋蓮慈金剛上師 護壇：華光雷藏寺法師助教團\n	 \n\n		意義：祈請西方極樂世界最富勾財天女，賜福眾等福分資糧最富足，一切財事大增益、大吉祥。\n	 \n\n		特別項目：報名法會請法主祈人、功德主，請聯繫本寺。
URL:http://llt.vllcs.org/events/%e5%8b%be%e8%b2%a1%e5%a4%a9%e5%a5%b3%e6%81%af%e7%81%bd%e7%a5%88%e7%a6%8f%e5%a2%9e%e7%9b%8a%e8%b6%85%e5%ba%a6%e8%ad%b7%e6%91%a9%e7%81%ab%e4%be%9b%e6%b3%95%e6%9c%83%e6%9a%a8%e8%b3%9c%e7%a6%8f%e7%81%8c-2/
LOCATION:浩然精舍\, 6571 No. 6 Road\, Richmond\, B.C.\, V6W 1C8\, Canada
ATTACH;FMTTYPE=image/jpeg:http://llt.vllcs.org/files/2013/11/20130514222103.jpg
ORGANIZER;CN="%E6%B5%A9%E7%84%B6%E7%B2%BE%E8%88%8D%E5%8F%8A%E8%8F%AF%E5%85%89%E9%9B%B7%E8%97%8F%E5%AF%BA":MAILTO:llcsvancouver@gmail.com
END:VEVENT
END:VCALENDAR